BEGIN:VCALENDAR
VERSION:2.0
PRODID:icalendar-ruby
CALSCALE:GREGORIAN
METHOD:PUBLISH
BEGIN:VEVENT
DTSTAMP:20260421T034636Z
UID:11-358841@lfumc.org
DTSTART:20261101T150000Z
DTEND:20261101T160000Z
CLASS:PUBLIC
CREATED:20260420T212008
DESCRIPTION:
LAST-MODIFIED:20260420T212008
LOCATION:
SUMMARY:Sunday Worship
URL;VALUE=URI:https://www.lfumc.org/events/sunday-worship/2026-11-01
END:VEVENT
END:VCALENDAR
