BEGIN:VCALENDAR
VERSION:2.0
PRODID:icalendar-ruby
CALSCALE:GREGORIAN
METHOD:PUBLISH
BEGIN:VEVENT
DTSTAMP:20260421T021032Z
UID:11-358840@lfumc.org
DTSTART:20261025T140000Z
DTEND:20261025T150000Z
CLASS:PUBLIC
CREATED:20260420T212008
DESCRIPTION:
LAST-MODIFIED:20260420T212008
LOCATION:
SUMMARY:Sunday Worship
URL;VALUE=URI:https://www.lfumc.org/events/sunday-worship/2026-10-25
END:VEVENT
END:VCALENDAR
