BEGIN:VCALENDAR
VERSION:2.0
PRODID:icalendar-ruby
CALSCALE:GREGORIAN
METHOD:PUBLISH
BEGIN:VEVENT
DTSTAMP:20260420T211222Z
UID:11-358773@lfumc.org
DTSTART:20261004T140000Z
DTEND:20261004T150000Z
CLASS:PUBLIC
CREATED:20260420T161025
DESCRIPTION:
LAST-MODIFIED:20260420T161025
LOCATION:
SUMMARY:Sunday Worship
URL;VALUE=URI:https://www.lfumc.org/events/sunday-worship/2026-10-04
END:VEVENT
END:VCALENDAR
