BEGIN:VCALENDAR
VERSION:2.0
PRODID:icalendar-ruby
CALSCALE:GREGORIAN
METHOD:PUBLISH
BEGIN:VEVENT
DTSTAMP:20260420T181859Z
UID:11-358739@lfumc.org
DTSTART:20260920T140000Z
DTEND:20260920T150000Z
CLASS:PUBLIC
CREATED:20260420T133502
DESCRIPTION:
LAST-MODIFIED:20260420T133502
LOCATION:
SUMMARY:Sunday Worship
URL;VALUE=URI:https://www.lfumc.org/events/sunday-worship/2026-09-20
END:VEVENT
END:VCALENDAR
