BEGIN:VCALENDAR
VERSION:2.0
PRODID:icalendar-ruby
CALSCALE:GREGORIAN
METHOD:PUBLISH
BEGIN:VEVENT
DTSTAMP:20260420T103245Z
UID:11-358638@lfumc.org
DTSTART:20260816T140000Z
DTEND:20260816T150000Z
CLASS:PUBLIC
CREATED:20260420T035131
DESCRIPTION:
LAST-MODIFIED:20260420T035131
LOCATION:
SUMMARY:Sunday Worship
URL;VALUE=URI:https://www.lfumc.org/events/sunday-worship/2026-08-16
END:VEVENT
END:VCALENDAR
